BEGIN:VCALENDAR
VERSION:2.0
PRODID:-//Eventin//Event Calendar//EN
CALSCALE:GREGORIAN
METHOD:PUBLISH
BEGIN:VEVENT
UID:23645e5245aa1845b35cdbf318c2584c@ne.vertliberaux.ch
SUMMARY:Assemblée générale
DESCRIPTION:Les membres sont convoqués à l'assemblée générale du parti
  vert'libéral neuchâtelois. L'ordre du jour et les détails seront indiqu
 és par courriel directement aux membres.
LOCATION:Endroit à définir
DTSTAMP:20260425T143938Z
DTSTART:20260610T163000Z
DTEND:20260610T183000Z
END:VEVENT
END:VCALENDAR
