BEGIN:VCALENDAR
VERSION:2.0
PRODID:-//Eventin//Event Calendar//EN
CALSCALE:GREGORIAN
METHOD:PUBLISH
BEGIN:VEVENT
UID:adbe6957de86a6f0382dfe79c5ee0f7e@ne.vertliberaux.ch
SUMMARY:Assemblée générale
DESCRIPTION:Les membres sont convoqués à l'assemblée générale du parti
  vert'libéral neuchâtelois. L'ordre du jour et les détails seront indiqu
 és par courriel directement aux membres.
LOCATION:Endroit à définir
DTSTAMP:20260425T144543Z
DTSTART:20261001T163000Z
DTEND:20261001T183000Z
END:VEVENT
END:VCALENDAR
