BEGIN:VCALENDAR
VERSION:2.0
PRODID:-//Eventin//Event Calendar//EN
CALSCALE:GREGORIAN
METHOD:PUBLISH
BEGIN:VEVENT
UID:a7c70849067e5d274a8e5087a9453d5c@ne.vertliberaux.ch
SUMMARY:Assemblée générale
DESCRIPTION:Les membres sont convoqués à l'assemblée générale du parti
  vert'libéral neuchâtelois. L'ordre du jour et les détails seront indiqu
 és par courriel directement aux membres.
LOCATION:Endroit à définir
DTSTAMP:20260425T144331Z
DTSTART:20261209T173000Z
DTEND:20261209T193000Z
END:VEVENT
END:VCALENDAR
